BEGIN:VCALENDAR
VERSION:2.0
PRODID:icalendar-ruby
CALSCALE:GREGORIAN
METHOD:PUBLISH
BEGIN:VEVENT
DTSTAMP:20260422T223436Z
UID:7-450081@transformed2transform.org
DTSTART:20260819T010000Z
DTEND:20260819T020000Z
CLASS:PUBLIC
CREATED:20260422T173150
DESCRIPTION:Prayer Service
LAST-MODIFIED:20260422T173150
LOCATION:https://us02web.zoom.us/j/997313615?pwd=Wmt5b2UxNEgxd1I0ZXFCMEorVk
 1rQT09
SUMMARY:Prayer Service
URL;VALUE=URI:https://www.transformed2transform.org/events/prayer-service/2
 026-08-18
ATTACH;FILENAME=unnamed.jpg;FMTTYPE=image/jpeg:https://dq5pwpg1q8ru0.cloudf
 ront.net/2025/12/28/04/43/58/e20609e2-7b4c-41f8-8cb2-127d194b9bcb/unnamed.
 jpg
END:VEVENT
END:VCALENDAR
